Package: Anaquin Version: 2.31.0 Command: /home/biocbuild/bbs-3.21-bioc/R/bin/R CMD INSTALL Anaquin StartedAt: 2025-02-09 15:21:33 -0500 (Sun, 09 Feb 2025) EndedAt: 2025-02-09 15:21:38 -0500 (Sun, 09 Feb 2025) EllapsedTime: 4.3 seconds RetCode: 0 Status: OK