Package: Anaquin Version: 2.31.0 Command: rm -rf Anaquin.buildbin-libdir && mkdir Anaquin.buildbin-libdir && E:\biocbuild\bbs-3.21-bioc\R\bin\R.exe CMD INSTALL --build --library=Anaquin.buildbin-libdir Anaquin_2.31.0.tar.gz StartedAt: 2025-02-10 07:12:08 -0500 (Mon, 10 Feb 2025) EndedAt: 2025-02-10 07:12:23 -0500 (Mon, 10 Feb 2025) EllapsedTime: 14.9 seconds RetCode: 0 Status: OK PackageFile: Anaquin_2.31.0.zip PackageFileSize: 461.5 KiB