Package: Anaquin Version: 2.31.0 Command: chmod a+r Anaquin -R && E:\biocbuild\bbs-3.21-bioc\R\bin\R.exe CMD build --keep-empty-dirs --no-resave-data Anaquin StartedAt: 2025-02-10 17:22:01 -0500 (Mon, 10 Feb 2025) EndedAt: 2025-02-10 17:22:46 -0500 (Mon, 10 Feb 2025) EllapsedTime: 45.3 seconds RetCode: 0 Status: OK PackageFile: Anaquin_2.31.0.tar.gz PackageFileSize: 452.8 KiB