Package: Anaquin Version: 2.31.0 Command: E:\biocbuild\bbs-3.21-bioc\R\bin\R.exe CMD check --no-multiarch --install=check:Anaquin.install-out.txt --library=E:\biocbuild\bbs-3.21-bioc\R\library --no-vignettes --timings Anaquin_2.31.0.tar.gz StartedAt: 2025-02-09 22:35:00 -0500 (Sun, 09 Feb 2025) EndedAt: 2025-02-09 22:36:15 -0500 (Sun, 09 Feb 2025) EllapsedTime: 75.1 seconds RetCode: 0 Status: OK CheckDir: Anaquin.Rcheck Warnings: 0