Package: AneuFinder Version: 1.35.0 Maintainer: Aaron Taudt MaintainerEmail: aaron.taudt at gmail.com git_url: https://git.bioconductor.org/packages/AneuFinder git_branch: devel git_last_commit: 42b7837 git_last_commit_date: 2024-10-29 10:08:55 -0500 (Tue, 29 Oct 2024)