Package: AneuFinder Version: 1.35.0 Command: /home/biocbuild/bbs-3.21-bioc/R/bin/R CMD build --keep-empty-dirs --no-resave-data AneuFinder StartedAt: 2025-02-09 16:08:27 -0500 (Sun, 09 Feb 2025) EndedAt: 2025-02-09 16:08:29 -0500 (Sun, 09 Feb 2025) EllapsedTime: 2.0 seconds RetCode: 1 Status: ERROR PackageFile: None PackageFileSize: NA