Package: AneuFinder Version: 1.35.0 Command: /home/biocbuild/bbs-3.21-bioc/R/bin/R CMD INSTALL AneuFinder StartedAt: 2025-02-09 15:25:10 -0500 (Sun, 09 Feb 2025) EndedAt: 2025-02-09 15:25:13 -0500 (Sun, 09 Feb 2025) EllapsedTime: 2.5 seconds RetCode: 1 Status: ERROR