Package: AneuFinder Version: 1.35.0 Command: rm -rf AneuFinder.buildbin-libdir && mkdir AneuFinder.buildbin-libdir && E:\biocbuild\bbs-3.21-bioc\R\bin\R.exe CMD INSTALL --build --library=AneuFinder.buildbin-libdir AneuFinder_1.35.0.tar.gz StartedAt: 2025-01-22 07:04:02 -0500 (Wed, 22 Jan 2025) EndedAt: 2025-01-22 07:05:40 -0500 (Wed, 22 Jan 2025) EllapsedTime: 97.1 seconds RetCode: 0 Status: OK PackageFile: AneuFinder_1.35.0.zip PackageFileSize: 2.535 MiB