Package: AneuFinder Version: 1.35.0 Command: E:\biocbuild\bbs-3.21-bioc\R\bin\R.exe CMD INSTALL AneuFinder StartedAt: 2025-02-09 16:12:57 -0500 (Sun, 09 Feb 2025) EndedAt: 2025-02-09 16:13:02 -0500 (Sun, 09 Feb 2025) EllapsedTime: 5.1 seconds RetCode: 1 Status: ERROR