Package: AnnotationDbi Version: 1.69.0 Command: /Library/Frameworks/R.framework/Resources/bin/R CMD build --keep-empty-dirs --no-resave-data AnnotationDbi StartedAt: 2025-02-12 15:32:58 -0500 (Wed, 12 Feb 2025) EndedAt: 2025-02-12 15:33:24 -0500 (Wed, 12 Feb 2025) EllapsedTime: 25.3 seconds RetCode: 0 Status: OK PackageFile: AnnotationDbi_1.69.0.tar.gz PackageFileSize: 4.171 MiB