Package: AnnotationDbi Version: 1.69.0 Command: /home/biocbuild/R/R/bin/R CMD INSTALL AnnotationDbi StartedAt: 2025-01-29 19:44:11 -0000 (Wed, 29 Jan 2025) EndedAt: 2025-01-29 19:44:38 -0000 (Wed, 29 Jan 2025) EllapsedTime: 26.9 seconds RetCode: 0 Status: OK