Package: AnnotationDbi Version: 1.69.0 Command: rm -rf AnnotationDbi.buildbin-libdir && mkdir AnnotationDbi.buildbin-libdir && /Users/biocbuild/BBS/utils/build-universal.sh AnnotationDbi_1.69.0.tar.gz /Library/Frameworks/R.framework/Resources/bin/R AnnotationDbi.buildbin-libdir StartedAt: 2025-02-13 00:25:05 -0500 (Thu, 13 Feb 2025) EndedAt: 2025-02-13 00:25:36 -0500 (Thu, 13 Feb 2025) EllapsedTime: 31.2 seconds RetCode: 0 Status: OK PackageFile: AnnotationDbi_1.69.0.tgz PackageFileSize: 4.968 MiB