Package: AnnotationDbi Version: 1.69.0 Command: E:\biocbuild\bbs-3.21-bioc\R\bin\R.exe CMD INSTALL AnnotationDbi StartedAt: 2025-02-09 15:40:04 -0500 (Sun, 09 Feb 2025) EndedAt: 2025-02-09 15:44:01 -0500 (Sun, 09 Feb 2025) EllapsedTime: 237.4 seconds RetCode: 0 Status: OK