Package: AnnotationForge Version: 1.49.0 Command: /Library/Frameworks/R.framework/Resources/bin/R CMD INSTALL AnnotationForge StartedAt: 2025-02-12 15:07:25 -0500 (Wed, 12 Feb 2025) EndedAt: 2025-02-12 15:07:32 -0500 (Wed, 12 Feb 2025) EllapsedTime: 6.5 seconds RetCode: 0 Status: OK