Package: AnnotationForge Version: 1.49.0 Command: rm -rf AnnotationForge.buildbin-libdir && mkdir AnnotationForge.buildbin-libdir && /Users/biocbuild/BBS/utils/build-universal.sh AnnotationForge_1.49.0.tar.gz /Library/Frameworks/R.framework/Resources/bin/R AnnotationForge.buildbin-libdir StartedAt: 2025-02-10 00:41:45 -0500 (Mon, 10 Feb 2025) EndedAt: 2025-02-10 00:42:15 -0500 (Mon, 10 Feb 2025) EllapsedTime: 30.2 seconds RetCode: 0 Status: OK PackageFile: AnnotationForge_1.49.0.tgz PackageFileSize: 4.186 MiB