Package: AnnotationForge Version: 1.49.0 Command: /Library/Frameworks/R.framework/Resources/bin/R CMD build --keep-empty-dirs --no-resave-data AnnotationForge StartedAt: 2025-02-09 15:53:44 -0500 (Sun, 09 Feb 2025) EndedAt: 2025-02-09 16:15:43 -0500 (Sun, 09 Feb 2025) EllapsedTime: 1319.3 seconds RetCode: 0 Status: OK PackageFile: AnnotationForge_1.49.0.tar.gz PackageFileSize: 3.841 MiB