Package: AnnotationForge Version: 1.49.0 Command: /home/biocbuild/bbs-3.21-bioc/R/bin/R CMD build --keep-empty-dirs --no-resave-data AnnotationForge StartedAt: 2025-02-09 16:08:55 -0500 (Sun, 09 Feb 2025) EndedAt: 2025-02-09 16:30:20 -0500 (Sun, 09 Feb 2025) EllapsedTime: 1285.3 seconds RetCode: 0 Status: OK PackageFile: AnnotationForge_1.49.0.tar.gz PackageFileSize: 3.84 MiB