Package: AnnotationHub Version: 3.15.0 Command: /Library/Frameworks/R.framework/Resources/bin/R CMD build --keep-empty-dirs --no-resave-data AnnotationHub StartedAt: 2025-02-04 15:33:18 -0500 (Tue, 04 Feb 2025) EndedAt: 2025-02-04 15:34:18 -0500 (Tue, 04 Feb 2025) EllapsedTime: 59.7 seconds RetCode: 0 Status: OK PackageFile: AnnotationHub_3.15.0.tar.gz PackageFileSize: 976.2 KiB