Package: AnnotationHub Version: 3.15.0 Command: /Library/Frameworks/R.framework/Resources/bin/R CMD INSTALL AnnotationHub StartedAt: 2025-02-09 15:08:36 -0500 (Sun, 09 Feb 2025) EndedAt: 2025-02-09 15:08:43 -0500 (Sun, 09 Feb 2025) EllapsedTime: 6.4 seconds RetCode: 0 Status: OK