Package: AnnotationHub Version: 3.15.0 Command: /home/biocbuild/R/R/bin/R CMD INSTALL AnnotationHub StartedAt: 2025-01-29 19:49:04 -0000 (Wed, 29 Jan 2025) EndedAt: 2025-01-29 19:49:28 -0000 (Wed, 29 Jan 2025) EllapsedTime: 24.8 seconds RetCode: 0 Status: OK