Package: AnnotationHub Version: 3.15.0 Command: /Library/Frameworks/R.framework/Resources/bin/R CMD build --keep-empty-dirs --no-resave-data AnnotationHub StartedAt: 2025-02-09 15:53:47 -0500 (Sun, 09 Feb 2025) EndedAt: 2025-02-09 15:56:20 -0500 (Sun, 09 Feb 2025) EllapsedTime: 153.1 seconds RetCode: 0 Status: OK PackageFile: AnnotationHub_3.15.0.tar.gz PackageFileSize: 975.9 KiB