Package: AnnotationHub Version: 3.15.0 Command: /home/biocbuild/bbs-3.21-bioc/R/bin/R CMD build --keep-empty-dirs --no-resave-data AnnotationHub StartedAt: 2025-02-09 16:08:59 -0500 (Sun, 09 Feb 2025) EndedAt: 2025-02-09 16:11:02 -0500 (Sun, 09 Feb 2025) EllapsedTime: 123.2 seconds RetCode: 0 Status: OK PackageFile: AnnotationHub_3.15.0.tar.gz PackageFileSize: 976.1 KiB