Package: AnnotationHub Version: 3.15.0 Command: /home/biocbuild/bbs-3.21-bioc/R/bin/R CMD INSTALL AnnotationHub StartedAt: 2025-02-09 15:24:59 -0500 (Sun, 09 Feb 2025) EndedAt: 2025-02-09 15:25:15 -0500 (Sun, 09 Feb 2025) EllapsedTime: 16.9 seconds RetCode: 0 Status: OK