Package: AnnotationHub Version: 3.15.0 Command: chmod a+r AnnotationHub -R && E:\biocbuild\bbs-3.21-bioc\R\bin\R.exe CMD build --keep-empty-dirs --no-resave-data AnnotationHub StartedAt: 2025-02-09 17:13:10 -0500 (Sun, 09 Feb 2025) EndedAt: 2025-02-09 17:17:01 -0500 (Sun, 09 Feb 2025) EllapsedTime: 231.2 seconds RetCode: 0 Status: OK PackageFile: AnnotationHub_3.15.0.tar.gz PackageFileSize: 976.1 KiB