Package: AnnotationHub Version: 3.15.0 Command: E:\biocbuild\bbs-3.21-bioc\R\bin\R.exe CMD check --no-multiarch --install=check:AnnotationHub.install-out.txt --library=E:\biocbuild\bbs-3.21-bioc\R\library --no-vignettes --timings AnnotationHub_3.15.0.tar.gz StartedAt: 2025-02-09 22:36:36 -0500 (Sun, 09 Feb 2025) EndedAt: 2025-02-09 22:41:26 -0500 (Sun, 09 Feb 2025) EllapsedTime: 290.0 seconds RetCode: 0 Status: OK CheckDir: AnnotationHub.Rcheck Warnings: 0