Package: AnnotationHub Version: 3.15.0 Command: E:\biocbuild\bbs-3.21-bioc\R\bin\R.exe CMD INSTALL AnnotationHub StartedAt: 2025-02-04 15:47:43 -0500 (Tue, 04 Feb 2025) EndedAt: 2025-02-04 15:49:03 -0500 (Tue, 04 Feb 2025) EllapsedTime: 80.2 seconds RetCode: 0 Status: OK