Package: ArrayExpress Version: 1.67.0 Command: /Library/Frameworks/R.framework/Resources/bin/R CMD INSTALL ArrayExpress StartedAt: 2025-02-09 15:07:38 -0500 (Sun, 09 Feb 2025) EndedAt: 2025-02-09 15:07:39 -0500 (Sun, 09 Feb 2025) EllapsedTime: 0.2 seconds RetCode: 1 Status: ERROR