Package: ArrayExpress Version: 1.67.0 Command: rm -rf ArrayExpress.buildbin-libdir && mkdir ArrayExpress.buildbin-libdir && E:\biocbuild\bbs-3.21-bioc\R\bin\R.exe CMD INSTALL --build --library=ArrayExpress.buildbin-libdir ArrayExpress_1.67.0.tar.gz StartedAt: 2025-02-13 07:25:04 -0500 (Thu, 13 Feb 2025) EndedAt: 2025-02-13 07:25:42 -0500 (Thu, 13 Feb 2025) EllapsedTime: 38.3 seconds RetCode: 0 Status: OK PackageFile: ArrayExpress_1.67.0.zip PackageFileSize: 186.8 KiB