Package: BADER Version: 1.45.0 Command: /Library/Frameworks/R.framework/Resources/bin/R CMD build --keep-empty-dirs --no-resave-data BADER StartedAt: 2025-02-09 15:35:32 -0500 (Sun, 09 Feb 2025) EndedAt: 2025-02-09 15:35:34 -0500 (Sun, 09 Feb 2025) EllapsedTime: 2.0 seconds RetCode: 1 Status: ERROR PackageFile: None PackageFileSize: NA