Package: BAGS Version: 2.47.0 Command: rm -rf BAGS.buildbin-libdir && mkdir BAGS.buildbin-libdir && /Users/biocbuild/BBS/utils/build-universal.sh BAGS_2.47.0.tar.gz /Library/Frameworks/R.framework/Resources/bin/R BAGS.buildbin-libdir StartedAt: 2025-02-12 22:11:20 -0500 (Wed, 12 Feb 2025) EndedAt: 2025-02-12 22:11:23 -0500 (Wed, 12 Feb 2025) EllapsedTime: 3.1 seconds RetCode: 0 Status: OK PackageFile: BAGS_2.47.0.tgz PackageFileSize: 315.9 KiB