Package: BAGS Version: 2.47.0 Command: /Library/Frameworks/R.framework/Resources/bin/R CMD build --keep-empty-dirs --no-resave-data BAGS StartedAt: 2025-02-09 15:35:34 -0500 (Sun, 09 Feb 2025) EndedAt: 2025-02-09 15:35:45 -0500 (Sun, 09 Feb 2025) EllapsedTime: 11.1 seconds RetCode: 0 Status: OK PackageFile: BAGS_2.47.0.tar.gz PackageFileSize: 273.5 KiB