Package: BAGS Version: 2.47.0 Command: rm -rf BAGS.buildbin-libdir && mkdir BAGS.buildbin-libdir && /Users/biocbuild/BBS/utils/build-universal.sh BAGS_2.47.0.tar.gz /Library/Frameworks/R.framework/Resources/bin/R BAGS.buildbin-libdir StartedAt: 2025-02-13 00:25:43 -0500 (Thu, 13 Feb 2025) EndedAt: 2025-02-13 00:25:52 -0500 (Thu, 13 Feb 2025) EllapsedTime: 9.2 seconds RetCode: 0 Status: OK PackageFile: BAGS_2.47.0.tgz PackageFileSize: 317.5 KiB