Package: BAGS Version: 2.47.0 Command: /home/biocbuild/bbs-3.21-bioc/R/bin/R CMD INSTALL BAGS StartedAt: 2025-02-12 15:12:16 -0500 (Wed, 12 Feb 2025) EndedAt: 2025-02-12 15:12:20 -0500 (Wed, 12 Feb 2025) EllapsedTime: 4.1 seconds RetCode: 0 Status: OK