Package: BAGS Version: 2.47.0 Command: rm -rf BAGS.buildbin-libdir && mkdir BAGS.buildbin-libdir && E:\biocbuild\bbs-3.21-bioc\R\bin\R.exe CMD INSTALL --build --library=BAGS.buildbin-libdir BAGS_2.47.0.tar.gz StartedAt: 2025-02-13 07:26:24 -0500 (Thu, 13 Feb 2025) EndedAt: 2025-02-13 07:26:36 -0500 (Thu, 13 Feb 2025) EllapsedTime: 12.4 seconds RetCode: 0 Status: OK PackageFile: BAGS_2.47.0.zip PackageFileSize: 245.5 KiB