Package: BAGS Version: 2.47.0 Command: E:\biocbuild\bbs-3.21-bioc\R\bin\R.exe CMD check --no-multiarch --install=check:BAGS.install-out.txt --library=E:\biocbuild\bbs-3.21-bioc\R\library --no-vignettes --timings BAGS_2.47.0.tar.gz StartedAt: 2025-02-09 22:44:27 -0500 (Sun, 09 Feb 2025) EndedAt: 2025-02-09 22:45:50 -0500 (Sun, 09 Feb 2025) EllapsedTime: 82.9 seconds RetCode: 0 Status: OK CheckDir: BAGS.Rcheck Warnings: 0