Package: BAGS Version: 2.47.0 Command: E:\biocbuild\bbs-3.21-bioc\R\bin\R.exe CMD INSTALL BAGS StartedAt: 2025-02-09 15:23:16 -0500 (Sun, 09 Feb 2025) EndedAt: 2025-02-09 15:23:28 -0500 (Sun, 09 Feb 2025) EllapsedTime: 11.4 seconds RetCode: 0 Status: OK