Package: BASiCS Version: 2.19.0 Maintainer: Catalina Vallejos MaintainerEmail: catalina.vallejos at igmm.ed.ac.uk git_url: https://git.bioconductor.org/packages/BASiCS git_branch: devel git_last_commit: 055feb8 git_last_commit_date: 2024-10-29 10:22:37 -0500 (Tue, 29 Oct 2024)