Package: BASiCS Version: 2.19.0 Command: /Library/Frameworks/R.framework/Resources/bin/R CMD check --install=check:BASiCS.install-out.txt --library=/Library/Frameworks/R.framework/Resources/library --no-vignettes --timings BASiCS_2.19.0.tar.gz StartedAt: 2025-02-09 18:09:12 -0500 (Sun, 09 Feb 2025) EndedAt: 2025-02-09 18:12:41 -0500 (Sun, 09 Feb 2025) EllapsedTime: 208.5 seconds RetCode: 0 Status: WARNINGS CheckDir: BASiCS.Rcheck Warnings: 1