Package: BASiCS Version: 2.19.0 Command: /home/biocbuild/R/R/bin/R CMD build --keep-empty-dirs --no-resave-data BASiCS StartedAt: 2025-01-29 20:59:42 -0000 (Wed, 29 Jan 2025) EndedAt: 2025-01-29 21:02:17 -0000 (Wed, 29 Jan 2025) EllapsedTime: 155.0 seconds RetCode: 0 Status: OK PackageFile: BASiCS_2.19.0.tar.gz PackageFileSize: 3.032 MiB