Package: BASiCS Version: 2.19.0 Command: /home/biocbuild/R/R/bin/R CMD check --install=check:BASiCS.install-out.txt --library=/home/biocbuild/R/R/site-library --no-vignettes --timings BASiCS_2.19.0.tar.gz StartedAt: 2025-01-28 03:42:15 -0000 (Tue, 28 Jan 2025) EndedAt: 2025-01-28 03:53:50 -0000 (Tue, 28 Jan 2025) EllapsedTime: 695.9 seconds RetCode: 0 Status: OK CheckDir: BASiCS.Rcheck Warnings: 0