Package: BASiCS Version: 2.19.0 Command: /home/biocbuild/R/R/bin/R CMD INSTALL BASiCS StartedAt: 2025-01-29 20:29:45 -0000 (Wed, 29 Jan 2025) EndedAt: 2025-01-29 20:31:40 -0000 (Wed, 29 Jan 2025) EllapsedTime: 114.2 seconds RetCode: 0 Status: OK