Package: BASiCS Version: 2.19.0 Command: rm -rf BASiCS.buildbin-libdir && mkdir BASiCS.buildbin-libdir && /Users/biocbuild/BBS/utils/build-universal.sh BASiCS_2.19.0.tar.gz /Library/Frameworks/R.framework/Resources/bin/R BASiCS.buildbin-libdir StartedAt: 2025-02-13 00:26:02 -0500 (Thu, 13 Feb 2025) EndedAt: 2025-02-13 00:27:38 -0500 (Thu, 13 Feb 2025) EllapsedTime: 96.4 seconds RetCode: 0 Status: OK PackageFile: BASiCS_2.19.0.tgz PackageFileSize: 3.932 MiB