Package: BASiCS Version: 2.19.0 Command: /Library/Frameworks/R.framework/Resources/bin/R CMD build --keep-empty-dirs --no-resave-data BASiCS StartedAt: 2025-02-09 15:57:40 -0500 (Sun, 09 Feb 2025) EndedAt: 2025-02-09 15:59:36 -0500 (Sun, 09 Feb 2025) EllapsedTime: 115.6 seconds RetCode: 0 Status: OK PackageFile: BASiCS_2.19.0.tar.gz PackageFileSize: 3.298 MiB