Package: BASiCS Version: 2.19.0 Command: /Library/Frameworks/R.framework/Resources/bin/R CMD check --install=check:BASiCS.install-out.txt --library=/Library/Frameworks/R.framework/Resources/library --no-vignettes --timings BASiCS_2.19.0.tar.gz StartedAt: 2025-02-09 19:10:18 -0500 (Sun, 09 Feb 2025) EndedAt: 2025-02-09 19:20:52 -0500 (Sun, 09 Feb 2025) EllapsedTime: 634.3 seconds RetCode: 0 Status: OK CheckDir: BASiCS.Rcheck Warnings: 0