Package: BASiCS Version: 2.19.0 Command: /Library/Frameworks/R.framework/Resources/bin/R CMD INSTALL BASiCS StartedAt: 2025-02-12 15:40:22 -0500 (Wed, 12 Feb 2025) EndedAt: 2025-02-12 15:41:53 -0500 (Wed, 12 Feb 2025) EllapsedTime: 91.3 seconds RetCode: 0 Status: OK