Package: BASiCS Version: 2.19.0 Command: chmod a+r BASiCS -R && E:\biocbuild\bbs-3.21-bioc\R\bin\R.exe CMD build --keep-empty-dirs --no-resave-data BASiCS StartedAt: 2025-02-09 17:20:35 -0500 (Sun, 09 Feb 2025) EndedAt: 2025-02-09 17:23:12 -0500 (Sun, 09 Feb 2025) EllapsedTime: 156.4 seconds RetCode: 0 Status: OK PackageFile: BASiCS_2.19.0.tar.gz PackageFileSize: 2.958 MiB