Package: BASiCS Version: 2.19.0 Command: E:\biocbuild\bbs-3.21-bioc\R\bin\R.exe CMD check --no-multiarch --install=check:BASiCS.install-out.txt --library=E:\biocbuild\bbs-3.21-bioc\R\library --no-vignettes --timings BASiCS_2.19.0.tar.gz StartedAt: 2025-02-12 22:55:50 -0500 (Wed, 12 Feb 2025) EndedAt: 2025-02-12 23:07:03 -0500 (Wed, 12 Feb 2025) EllapsedTime: 672.7 seconds RetCode: 0 Status: OK CheckDir: BASiCS.Rcheck Warnings: 0