Package: BASiCS Version: 2.19.0 Command: E:\biocbuild\bbs-3.21-bioc\R\bin\R.exe CMD INSTALL BASiCS StartedAt: 2025-02-09 16:26:12 -0500 (Sun, 09 Feb 2025) EndedAt: 2025-02-09 16:28:01 -0500 (Sun, 09 Feb 2025) EllapsedTime: 108.7 seconds RetCode: 0 Status: OK