Package: BASiCStan Version: 1.9.0 Command: rm -rf BASiCStan.buildbin-libdir && mkdir BASiCStan.buildbin-libdir && /Users/biocbuild/BBS/utils/build-universal.sh BASiCStan_1.9.0.tar.gz /Library/Frameworks/R.framework/Resources/bin/R BASiCStan.buildbin-libdir StartedAt: 2025-02-04 22:08:22 -0500 (Tue, 04 Feb 2025) EndedAt: 2025-02-04 22:09:39 -0500 (Tue, 04 Feb 2025) EllapsedTime: 77.7 seconds RetCode: 0 Status: OK PackageFile: BASiCStan_1.9.0.tgz PackageFileSize: 1006 KiB