Package: BASiCStan Version: 1.9.0 Command: /Library/Frameworks/R.framework/Resources/bin/R CMD build --keep-empty-dirs --no-resave-data BASiCStan StartedAt: 2025-02-04 15:36:52 -0500 (Tue, 04 Feb 2025) EndedAt: 2025-02-04 15:38:06 -0500 (Tue, 04 Feb 2025) EllapsedTime: 74.8 seconds RetCode: 0 Status: OK PackageFile: BASiCStan_1.9.0.tar.gz PackageFileSize: 76.56 KiB